BEGIN:VCALENDAR
VERSION:2.0
PRODID:-//Quentin Duigou - ECPv6.0.10//NONSGML v1.0//EN
CALSCALE:GREGORIAN
METHOD:PUBLISH
X-ORIGINAL-URL:https://www.quentinduigou.com
X-WR-CALDESC:évènements pour Quentin Duigou
REFRESH-INTERVAL;VALUE=DURATION:PT1H
X-Robots-Tag:noindex
X-PUBLISHED-TTL:PT1H
BEGIN:VTIMEZONE
TZID:Europe/Zurich
BEGIN:DAYLIGHT
TZOFFSETFROM:+0100
TZOFFSETTO:+0200
TZNAME:CEST
DTSTART:20250330T010000
END:DAYLIGHT
BEGIN:STANDARD
TZOFFSETFROM:+0200
TZOFFSETTO:+0100
TZNAME:CET
DTSTART:20251026T010000
END:STANDARD
END:VTIMEZONE
BEGIN:VEVENT
DTSTART;TZID=Europe/Zurich:20251203T190000
DTEND;TZID=Europe/Zurich:20251203T203000
DTSTAMP:20260421T061435
CREATED:20251028T160101Z
LAST-MODIFIED:20251028T160101Z
UID:29489-1764788400-1764793800@www.quentinduigou.com
SUMMARY:Cosi fan tutte\, Mozart
DESCRIPTION:Extraits de l’opéra Cosi fan tutte de Mozart
URL:https://www.quentinduigou.com/event/cosi-fan-tutte-mozart/
LOCATION:CNSMDP\, 209 Avenue Jean Jaurès\, Paris\, 75019
CATEGORIES:direction
END:VEVENT
END:VCALENDAR