BEGIN:VCALENDAR
VERSION:2.0
PRODID:-//Quentin Duigou - ECPv6.0.10//NONSGML v1.0//EN
CALSCALE:GREGORIAN
METHOD:PUBLISH
X-ORIGINAL-URL:https://www.quentinduigou.com
X-WR-CALDESC:évènements pour Quentin Duigou
REFRESH-INTERVAL;VALUE=DURATION:PT1H
X-Robots-Tag:noindex
X-PUBLISHED-TTL:PT1H
BEGIN:VTIMEZONE
TZID:Europe/Zurich
BEGIN:DAYLIGHT
TZOFFSETFROM:+0100
TZOFFSETTO:+0200
TZNAME:CEST
DTSTART:20260329T010000
END:DAYLIGHT
BEGIN:STANDARD
TZOFFSETFROM:+0200
TZOFFSETTO:+0100
TZNAME:CET
DTSTART:20261025T010000
END:STANDARD
END:VTIMEZONE
BEGIN:VEVENT
DTSTART;TZID=Europe/Zurich:20260412T160000
DTEND;TZID=Europe/Zurich:20260412T170000
DTSTAMP:20260420T225554
CREATED:20260313T222036Z
LAST-MODIFIED:20260313T222036Z
UID:29499-1776009600-1776013200@www.quentinduigou.com
SUMMARY:Orchestre d'harmonie de normandie
DESCRIPTION:Sous la direction Quentin Duigou\, création de « Le chant de l’estuaire » de Quentin Duigou
URL:https://www.quentinduigou.com/event/orchestre-dharmonie-de-normandie/
LOCATION:Temple saint Eloi\, 20 place Martin Luther King\, Rouen\, 76000\, France
CATEGORIES:composition,direction
END:VEVENT
END:VCALENDAR