BEGIN:VCALENDAR
VERSION:2.0
PRODID:-//Quentin Duigou - ECPv6.0.10//NONSGML v1.0//EN
CALSCALE:GREGORIAN
METHOD:PUBLISH
X-WR-CALNAME:Quentin Duigou
X-ORIGINAL-URL:https://www.quentinduigou.com
X-WR-CALDESC:évènements pour Quentin Duigou
REFRESH-INTERVAL;VALUE=DURATION:PT1H
X-Robots-Tag:noindex
X-PUBLISHED-TTL:PT1H
BEGIN:VTIMEZONE
TZID:Europe/Zurich
BEGIN:DAYLIGHT
TZOFFSETFROM:+0100
TZOFFSETTO:+0200
TZNAME:CEST
DTSTART:20250330T010000
END:DAYLIGHT
BEGIN:STANDARD
TZOFFSETFROM:+0200
TZOFFSETTO:+0100
TZNAME:CET
DTSTART:20251026T010000
END:STANDARD
END:VTIMEZONE
BEGIN:VEVENT
DTSTART;TZID=Europe/Zurich:20251108T203000
DTEND;TZID=Europe/Zurich:20251108T203000
DTSTAMP:20260421T080041
CREATED:20250922T113212Z
LAST-MODIFIED:20251028T162026Z
UID:29380-1762633800-1762633800@www.quentinduigou.com
SUMMARY:Crépuscule
DESCRIPTION:Ouverture de Parsifal\, Wagner – Symphonie n°6\, Tchaikovsky
URL:https://www.quentinduigou.com/event/wagner-tchaikovsky/
LOCATION:Eglise Saint Eloi\, 3 Place Maurice de Fontenay\, Paris\, 75012
CATEGORIES:direction
END:VEVENT
BEGIN:VEVENT
DTSTART;TZID=Europe/Zurich:20251109T203000
DTEND;TZID=Europe/Zurich:20251109T203000
DTSTAMP:20260421T080041
CREATED:20250922T113312Z
LAST-MODIFIED:20251028T161737Z
UID:29383-1762720200-1762720200@www.quentinduigou.com
SUMMARY:Crépuscule
DESCRIPTION:Ouverture de Parsifal\, Wagner – Symphonie n°6\, Tchaikovsky
URL:https://www.quentinduigou.com/event/wagner-tchaikovsky-2/
LOCATION:Eglise Saint Eloi\, 3 Place Maurice de Fontenay\, Paris\, 75012
CATEGORIES:direction
END:VEVENT
END:VCALENDAR